BEGIN:VCALENDAR
VERSION:2.0
PRODID:-//Champion Leadership Group - ECPv6.4.0//NONSGML v1.0//EN
CALSCALE:GREGORIAN
METHOD:PUBLISH
X-ORIGINAL-URL:https://championleadership.com
X-WR-CALDESC:Events for Champion Leadership Group
REFRESH-INTERVAL;VALUE=DURATION:PT1H
X-Robots-Tag:noindex
X-PUBLISHED-TTL:PT1H
BEGIN:VTIMEZONE
TZID:America/New_York
BEGIN:DAYLIGHT
TZOFFSETFROM:-0500
TZOFFSETTO:-0400
TZNAME:EDT
DTSTART:20240310T070000
END:DAYLIGHT
BEGIN:STANDARD
TZOFFSETFROM:-0400
TZOFFSETTO:-0500
TZNAME:EST
DTSTART:20241103T060000
END:STANDARD
END:VTIMEZONE
BEGIN:VEVENT
DTSTART;TZID=America/New_York:20240725T140000
DTEND;TZID=America/New_York:20240725T150000
DTSTAMP:20260425T142817
CREATED:20240703T173137Z
LAST-MODIFIED:20241105T184539Z
UID:27075-1721916000-1721919600@championleadership.com
SUMMARY:The 11x CEO: From Revenue Winner to Visionary Leader
DESCRIPTION:In this web training\, you'll learn:\n\n\n\n✔️The Mindset Shift: How to transition from a hands-on doer to an inspiring leader\, paving the way for sustainable growth. \n✔️Strategic Delegation: Mastering the art of empowering your team\, so you can focus on visionary leadership and long-term strategy. \n✔️Building Exponential Value: Techniques to exponentially boost your company’s value and attractiveness to potential acquirers. \n  \nThe leap from doing to leading is crucial for founders aiming to scale their businesses. Many startups plateau because their growth is tethered to the founder's hands-on approach. To break through this ceiling\, founders must evolve from being the rainmaker to the strategic architect\, thereby exponentially increasing their company's acquisition value. \n\n\n\nJuly 25th\, 2024 | 2:00 PM CST\nThis FREE Training is Limited\, So Register Now!\n\n\n\n\n\n\n\n\n\n\n\n\n\n\n\n\n\n\n\n\n\n\n\n\n\n\n\n\n\n\n\n\n\n\n\n\n\n\n\n\n\n\n\n\n\n\n\n\n\n\n\n\n\n\n\n\n\n\n\n\n\n\n\n\n\n\n\n\n\n\n\n\n\n\n\n\n\n\n\n\n\n\n\n\n\n\n\n\n\nChampion Leadership Group gives B2B SaaS leaders an unfair advantage in scaling up revenue and outwitting competitors with a fractional C-Suite\, a world-class operating system\, and a community of SaaS founder peers.
URL:https://championleadership.com/event/the-11x-ceo-from-revenue-winner-to-visionary-leader/
LOCATION:Virtual Event
CATEGORIES:Upcoming Events
ATTACH;FMTTYPE=image/jpeg:https://championleadership.com/wp-content/uploads/2024/07/WEBINAR-SOCIALS-CREATIVES-2.jpg
ORGANIZER;CN="Champion Leadership Group":MAILTO:jeff@championleadership.com
END:VEVENT
END:VCALENDAR