BEGIN:VCALENDAR
VERSION:2.0
PRODID:-//Champion Leadership Group - ECPv6.4.0//NONSGML v1.0//EN
CALSCALE:GREGORIAN
METHOD:PUBLISH
X-WR-CALNAME:Champion Leadership Group
X-ORIGINAL-URL:https://championleadership.com
X-WR-CALDESC:Events for Champion Leadership Group
REFRESH-INTERVAL;VALUE=DURATION:PT1H
X-Robots-Tag:noindex
X-PUBLISHED-TTL:PT1H
BEGIN:VTIMEZONE
TZID:America/New_York
BEGIN:DAYLIGHT
TZOFFSETFROM:-0500
TZOFFSETTO:-0400
TZNAME:EDT
DTSTART:20240310T070000
END:DAYLIGHT
BEGIN:STANDARD
TZOFFSETFROM:-0400
TZOFFSETTO:-0500
TZNAME:EST
DTSTART:20241103T060000
END:STANDARD
END:VTIMEZONE
BEGIN:VEVENT
DTSTART;TZID=America/New_York:20240801T140000
DTEND;TZID=America/New_York:20240801T150000
DTSTAMP:20260425T102806
CREATED:20240801T174028Z
LAST-MODIFIED:20241105T184539Z
UID:27196-1722520800-1722524400@championleadership.com
SUMMARY:The Founder's Fight: Defeating 5 Hidden Monsters to Scale Your SaaS ARR to $20M
DESCRIPTION:In this web training\, you'll learn:\n\n\n\n✔️Strategic Insights: Navigate the complexities of scaling your ARR with proven strategies and actionable insights. \n✔️Battle-Tested Tactics: Learn from real-world examples and practical tips to overcome common scaling challenges. \n✔️Expert Guidance: Gain access to industry leaders who have successfully scaled their businesses to new heights. \n✔️Interactive Learning: Engage with hands-on exercises and Q&A sessions to tailor strategies to your specific needs. \n✔️Exclusive Resources: Receive valuable templates\, checklists\, and tools designed to support your growth journey. \n\n\n\nAugust 1sth\, 2024 | 2:00 PM CST\nThis FREE Training is Limited\, So Register Now!\n\n\n\n\n\n\n\n\n\n\n\n\n\n\n\n\n\n\n\n\n\n\n\n\n\n\n\n\n\n\n\n\n\n\n\n\n\n\n\n\n\n\n\n\n\n\n\n\n\n\n\n\n\n\n\n\n\n\n\n\n\n\n\n\n\n\n\n\n\n\n\n\n\n\n\n\n\n\n\n\n\n\n\n\n\n\n\n\n\nChampion Leadership Group gives B2B SaaS leaders an unfair advantage in scaling up revenue and outwitting competitors with a fractional C-Suite\, a world-class operating system\, and a community of SaaS founder peers.
URL:https://championleadership.com/event/the-founders-fight-defeating-5-hidden-monsters-to-scale-your-saas/
LOCATION:Virtual Event
CATEGORIES:Upcoming Events
ATTACH;FMTTYPE=image/jpeg:https://championleadership.com/wp-content/uploads/2024/08/WEBINAR-SOCIALS-CREATIVES.jpg
ORGANIZER;CN="Champion Leadership Group":MAILTO:jeff@championleadership.com
END:VEVENT
END:VCALENDAR