BEGIN:VCALENDAR
VERSION:2.0
PRODID:-//Champion Leadership Group - ECPv6.4.0//NONSGML v1.0//EN
CALSCALE:GREGORIAN
METHOD:PUBLISH
X-ORIGINAL-URL:https://championleadership.com
X-WR-CALDESC:Events for Champion Leadership Group
REFRESH-INTERVAL;VALUE=DURATION:PT1H
X-Robots-Tag:noindex
X-PUBLISHED-TTL:PT1H
BEGIN:VTIMEZONE
TZID:America/New_York
BEGIN:DAYLIGHT
TZOFFSETFROM:-0500
TZOFFSETTO:-0400
TZNAME:EDT
DTSTART:20240310T070000
END:DAYLIGHT
BEGIN:STANDARD
TZOFFSETFROM:-0400
TZOFFSETTO:-0500
TZNAME:EST
DTSTART:20241103T060000
END:STANDARD
END:VTIMEZONE
BEGIN:VEVENT
DTSTART;TZID=America/New_York:20241212T140000
DTEND;TZID=America/New_York:20241212T150000
DTSTAMP:20260424T090608
CREATED:20241204T070055Z
LAST-MODIFIED:20241205T212135Z
UID:27908-1734012000-1734015600@championleadership.com
SUMMARY:Best Year Ever Masterclass
DESCRIPTION:Why You Need This Masterclass:\n✨ Clarity: Discover exactly what you want to achieve in business and life next year. No fluff\, just focus.\n🚀 Simplicity: Build a scalable business model that drives BIG results with a system you’ll actually stick to.\n📍 Action Plan: Say goodbye to overwhelm! Create a growth map that identifies your next right move—and stick to it with confidence. \n  \nIn this interactive\, no-BS masterclass\, you’ll co-create a custom growth plan designed to keep you laser-focused on meaningful goals. Using Jeff’s proven framework\, you’ll walk away with the tools to scale in 2025—without running yourself (or your team) into the ground. \n\n\n\nDec 12th\, 2024 | 2:00 PM CST\nThis FREE Masterclass is Limited\, So Register Now!\n\n\n\n\n\n\n\n\n\n\n\n\n\n\n\n\n\n\n\n\n\n\n\n\n\n\n\n\n\n\n\n\n\n\n\n\n\n\n\n\n\n\n\n\n\n\n\n\n\n\n\n\n\n\n\n\n\n\n\n\n\n\n\n\n\n\n\n\n\n\n\n\n\n\n\n\n\n\n\n\n\n\n\n\n\n\n\n\n\nChampion Leadership Group gives B2B SaaS leaders an unfair advantage in scaling up revenue and outwitting competitors with a fractional C-Suite\, a world-class operating system\, and a community of SaaS founder peers.
URL:https://championleadership.com/event/best-year-ever-masterclass/
LOCATION:Virtual Event
CATEGORIES:Upcoming Events
ATTACH;FMTTYPE=image/png:https://championleadership.com/wp-content/uploads/2024/12/WEBINAR-SOCIALS-CREATIVES-1.png
ORGANIZER;CN="Champion Leadership Group":MAILTO:jeff@championleadership.com
END:VEVENT
END:VCALENDAR