BEGIN:VCALENDAR
VERSION:2.0
PRODID:-//Champion Leadership Group - ECPv6.4.0//NONSGML v1.0//EN
CALSCALE:GREGORIAN
METHOD:PUBLISH
X-WR-CALNAME:Champion Leadership Group
X-ORIGINAL-URL:https://championleadership.com
X-WR-CALDESC:Events for Champion Leadership Group
REFRESH-INTERVAL;VALUE=DURATION:PT1H
X-Robots-Tag:noindex
X-PUBLISHED-TTL:PT1H
BEGIN:VTIMEZONE
TZID:America/New_York
BEGIN:DAYLIGHT
TZOFFSETFROM:-0500
TZOFFSETTO:-0400
TZNAME:EDT
DTSTART:20250309T070000
END:DAYLIGHT
BEGIN:STANDARD
TZOFFSETFROM:-0400
TZOFFSETTO:-0500
TZNAME:EST
DTSTART:20251102T060000
END:STANDARD
END:VTIMEZONE
BEGIN:VEVENT
DTSTART;TZID=America/New_York:20250116T140000
DTEND;TZID=America/New_York:20250116T150000
DTSTAMP:20260425T065909
CREATED:20250114T170740Z
LAST-MODIFIED:20250114T170805Z
UID:27994-1737036000-1737039600@championleadership.com
SUMMARY:Accelerate B2B SaaS Sales: Breaking Through the 'No Decision' Barrier
DESCRIPTION:In this web training\, you'll learn:\n\n\n\n✔️The 5 hidden psychological barriers that are stalling your deals.\n✔️How to pinpoint the exact barriers impacting your sales cycle.\n✔️Practical strategies to overcome each barrier and accelerate decision-making.\n✔️Real-world examples from SaaS companies that have shortened their sales cycles by 30%+. \n\nJan 16th\, 2025 | 2:00 PM CST\nThis FREE Training is Limited\, So Register Now!\n\n\n\n\n\n\n\n\n\n\n\n\n\n\n\n\n\n\n\n\n\n\n\n\n\n\n\n\n\n\n\n\n\n\n\n\n\n\n\n\n\n\n\n\n\n\n\n\n\n\n\n\n\n\n\n\n\n\n\n\n\n\n\n\n\n\n\n\n\n\n\n\n\n\n\n\n\n\n\n\n\n\n\n\n\n\n\n\n\nChampion Leadership Group gives B2B SaaS leaders an unfair advantage in scaling up revenue and outwitting competitors with a fractional C-Suite\, a world-class operating system\, and a community of SaaS founder peers.
URL:https://championleadership.com/event/accelerate-b2b-saas-sales-breaking-through-the-no-decision-barrier/
LOCATION:Virtual Event
CATEGORIES:Upcoming Events
ATTACH;FMTTYPE=image/jpeg:https://championleadership.com/wp-content/uploads/2025/01/WEBINAR-SOCIALS-CREATIVES.jpg
ORGANIZER;CN="Champion Leadership Group":MAILTO:jeff@championleadership.com
END:VEVENT
END:VCALENDAR