BEGIN:VCALENDAR
VERSION:2.0
PRODID:-//Champion Leadership Group - ECPv6.4.0//NONSGML v1.0//EN
CALSCALE:GREGORIAN
METHOD:PUBLISH
X-WR-CALNAME:Champion Leadership Group
X-ORIGINAL-URL:https://championleadership.com
X-WR-CALDESC:Events for Champion Leadership Group
REFRESH-INTERVAL;VALUE=DURATION:PT1H
X-Robots-Tag:noindex
X-PUBLISHED-TTL:PT1H
BEGIN:VTIMEZONE
TZID:America/New_York
BEGIN:DAYLIGHT
TZOFFSETFROM:-0500
TZOFFSETTO:-0400
TZNAME:EDT
DTSTART:20250309T070000
END:DAYLIGHT
BEGIN:STANDARD
TZOFFSETFROM:-0400
TZOFFSETTO:-0500
TZNAME:EST
DTSTART:20251102T060000
END:STANDARD
END:VTIMEZONE
BEGIN:VEVENT
DTSTART;TZID=America/New_York:20250123T140000
DTEND;TZID=America/New_York:20250123T150000
DTSTAMP:20260423T223409
CREATED:20250116T202857Z
LAST-MODIFIED:20250116T203213Z
UID:28008-1737640800-1737644400@championleadership.com
SUMMARY:The 90-Day Post-Acquisition Marketing Blueprint: How to Transform Any Marketing Department from Liability to Revenue Engine
DESCRIPTION:In this web training\, you'll learn:\n\n\n\n✅ The Lean Scale Triad™: Build a nimble\, cost-effective marketing team that drives growth without overextending resources.\n✅ The First 90-Day Blueprint: A step-by-step plan to restructure your marketing department for quick wins and long-term scalability.\n✅ The Growth Acceleration Framework: Metrics and strategies that make scaling predictable\, measurable\, and cost-effective.\n\nJan 23rd\, 2025 | 2:00 PM CST\nThis FREE Training is Limited\, So Register Now!\n\n\n\n\n\n\n\n\n\n\n\n\n\n\n\n\n\n\n\n\n\n\n\n\n\n\n\n\n\n\n\n\n\n\n\n\n\n\n\n\n\n\n\n\n\n\n\n\n\n\n\n\n\n\n\n\n\n\n\n\n\n\n\n\n\n\n\n\n\n\n\n\n\n\n\n\n\n\n\n\n\n\n\n\n\n\n\n\n\nChampion Leadership Group gives B2B SaaS leaders an unfair advantage in scaling up revenue and outwitting competitors with a fractional C-Suite\, a world-class operating system\, and a community of SaaS founder peers.
URL:https://championleadership.com/event/the-90-day-post-acquisition-marketing-blueprint-how-to-transform-any-marketing-department-from-liability-to-revenue-engine/
LOCATION:Virtual Event
CATEGORIES:Upcoming Events
ATTACH;FMTTYPE=image/png:https://championleadership.com/wp-content/uploads/2025/01/WEBINAR-SOCIALS-CREATIVES-2.png
ORGANIZER;CN="Champion Leadership Group":MAILTO:jeff@championleadership.com
END:VEVENT
END:VCALENDAR