BEGIN:VCALENDAR
VERSION:2.0
PRODID:-//Champion Leadership Group - ECPv6.4.0//NONSGML v1.0//EN
CALSCALE:GREGORIAN
METHOD:PUBLISH
X-ORIGINAL-URL:https://championleadership.com
X-WR-CALDESC:Events for Champion Leadership Group
REFRESH-INTERVAL;VALUE=DURATION:PT1H
X-Robots-Tag:noindex
X-PUBLISHED-TTL:PT1H
BEGIN:VTIMEZONE
TZID:America/New_York
BEGIN:DAYLIGHT
TZOFFSETFROM:-0500
TZOFFSETTO:-0400
TZNAME:EDT
DTSTART:20250309T070000
END:DAYLIGHT
BEGIN:STANDARD
TZOFFSETFROM:-0400
TZOFFSETTO:-0500
TZNAME:EST
DTSTART:20251102T060000
END:STANDARD
END:VTIMEZONE
BEGIN:VEVENT
DTSTART;TZID=America/New_York:20250213T140000
DTEND;TZID=America/New_York:20250213T150000
DTSTAMP:20260423T200423
CREATED:20250213T195117Z
LAST-MODIFIED:20250213T195117Z
UID:28087-1739455200-1739458800@championleadership.com
SUMMARY:Velocity Without Chaos: The Elite SaaS Leader's Guide to Scaling Innovation
DESCRIPTION:In this web training\, you'll learn:\n\n\n\n✅ Sustaining startup agility even as your company scales. \n✅ Converting innovation into measurable business outcomes. \n✅ Creating a culture of high-velocity execution and innovation. \n✅ Managing risk while staying ahead of market disruption. \n\nFeb 13th\, 2025 | 2:00 PM CST\nThis FREE Training is Limited\, So Register Now!\n\n\n\n\n\n\n\n\n\n\n\n\n\n\n\n\n\n\n\n\n\n\n\n\n\n\n\n\n\n\n\n\n\n\n\n\n\n\n\n\n\n\n\n\n\n\n\n\n\n\n\n\n\n\n\n\n\n\n\n\n\n\n\n\n\n\n\n\n\n\n\n\n\n\n\n\n\n\n\n\n\n\n\n\n\n\n\n\n\nChampion Leadership Group gives B2B SaaS leaders an unfair advantage in scaling up revenue and outwitting competitors with a fractional C-Suite\, a world-class operating system\, and a community of SaaS founder peers.
URL:https://championleadership.com/event/velocity-without-chaos-the-elite-saas-leaders-guide-to-scaling-innovation/
LOCATION:Virtual Event
CATEGORIES:Upcoming Events
ATTACH;FMTTYPE=image/jpeg:https://championleadership.com/wp-content/uploads/2025/02/WEBINAR-SOCIALS-CREATIVES-1.jpg
ORGANIZER;CN="Champion Leadership Group":MAILTO:jeff@championleadership.com
END:VEVENT
BEGIN:VEVENT
DTSTART;TZID=America/New_York:20250220T140000
DTEND;TZID=America/New_York:20250220T150000
DTSTAMP:20260423T200423
CREATED:20250213T195513Z
LAST-MODIFIED:20250213T195513Z
UID:28092-1740060000-1740063600@championleadership.com
SUMMARY:Demystifying Our Limited Self-Belief and Conquering the Fear
DESCRIPTION:In this web training\, you'll learn:\n\n\n\n✔️Understanding Self-Belief & Fear – How our perception shapes reality\, the two fears we’re born with\, and why self-doubt keeps us stuck. \n✔️The Root Causes of Limiting Beliefs – How childhood experiences\, societal influences\, and past failures create false limitations and impact confidence. \n✔️The Consequences of Fear & Self-Doubt – How hesitation leads to missed opportunities\, increased anxiety\, and a self-fulfilling cycle of negativity. \n✔️Shifting Your Mindset & Taking Action – Reframe limiting beliefs\, stop overthinking\, embrace failure as a stepping stone\, and surround yourself with positivity to build lasting confidence. \n\nFeb 20th\, 2025 | 2:00 PM CST\nThis FREE Training is Limited\, So Register Now!\n\n\n\n\n\n\n\n\n\n\n\n\n\n\n\n\n\n\n\n\n\n\n\n\n\n\n\n\n\n\n\n\n\n\n\n\n\n\n\n\n\n\n\n\n\n\n\n\n\n\n\n\n\n\n\n\n\n\n\n\n\n\n\n\n\n\n\n\n\n\n\n\n\n\n\n\n\n\n\n\n\n\n\n\n\n\n\n\n\nChampion Leadership Group gives B2B SaaS leaders an unfair advantage in scaling up revenue and outwitting competitors with a fractional C-Suite\, a world-class operating system\, and a community of SaaS founder peers.
URL:https://championleadership.com/event/demystifying-our-limited-self-belief-and-conquering-the-fear/
LOCATION:Virtual Event
CATEGORIES:Upcoming Events
ATTACH;FMTTYPE=image/jpeg:https://championleadership.com/wp-content/uploads/2025/02/WEBINAR-SOCIALS-CREATIVES.jpg
ORGANIZER;CN="Champion Leadership Group":MAILTO:jeff@championleadership.com
END:VEVENT
BEGIN:VEVENT
DTSTART;TZID=America/New_York:20250227T140000
DTEND;TZID=America/New_York:20250227T150000
DTSTAMP:20260423T200423
CREATED:20250219T200116Z
LAST-MODIFIED:20250219T200330Z
UID:28114-1740664800-1740668400@championleadership.com
SUMMARY:Pricing is a System\, Not a Number
DESCRIPTION:In this web training\, you'll learn:\n\n\n\n✅How to build a sustainable pricing system —not just pick a number. \n✅How to select the right pricing strategy based on your product’s value. \n✅Why pricing is about value exchange —and how to ensure it works for both you and your customers. \n✅How the Profit Stream Canvas helps you create a profitable\, scalable business. \n\nFeb 27h\, 2025 | 2:00 PM CST\nThis FREE Training is Limited\, So Register Now!\n\n\n\n\n\n\n\n\n\n\n\n\n\n\n\n\n\n\n\n\n\n\n\n\n\n\n\n\n\n\n\n\n\n\n\n\n\n\n\n\n\n\n\n\n\n\n\n\n\n\n\n\n\n\n\n\n\n\n\n\n\n\n\n\n\n\n\n\n\n\n\n\n\n\n\n\n\n\n\n\n\n\n\n\n\n\n\n\n\nChampion Leadership Group gives B2B SaaS leaders an unfair advantage in scaling up revenue and outwitting competitors with a fractional C-Suite\, a world-class operating system\, and a community of SaaS founder peers.
URL:https://championleadership.com/event/pricing-is-a-system-not-a-number/
LOCATION:Virtual Event
CATEGORIES:Upcoming Events
ATTACH;FMTTYPE=image/jpeg:https://championleadership.com/wp-content/uploads/2025/02/WEBINAR-SOCIALS-CREATIVES-1-1.jpg
ORGANIZER;CN="Champion Leadership Group":MAILTO:jeff@championleadership.com
END:VEVENT
END:VCALENDAR